BEGIN:VCALENDAR
VERSION:2.0
PRODID:-//CIACLA - ECPv6.15.20//NONSGML v1.0//EN
CALSCALE:GREGORIAN
METHOD:PUBLISH
X-WR-CALNAME:CIACLA
X-ORIGINAL-URL:https://ciacla.com
X-WR-CALDESC:Events for CIACLA
REFRESH-INTERVAL;VALUE=DURATION:PT1H
X-Robots-Tag:noindex
X-PUBLISHED-TTL:PT1H
BEGIN:VTIMEZONE
TZID:America/Los_Angeles
BEGIN:DAYLIGHT
TZOFFSETFROM:-0800
TZOFFSETTO:-0700
TZNAME:PDT
DTSTART:20180311T100000
END:DAYLIGHT
BEGIN:STANDARD
TZOFFSETFROM:-0700
TZOFFSETTO:-0800
TZNAME:PST
DTSTART:20181104T090000
END:STANDARD
BEGIN:DAYLIGHT
TZOFFSETFROM:-0800
TZOFFSETTO:-0700
TZNAME:PDT
DTSTART:20190310T100000
END:DAYLIGHT
BEGIN:STANDARD
TZOFFSETFROM:-0700
TZOFFSETTO:-0800
TZNAME:PST
DTSTART:20191103T090000
END:STANDARD
BEGIN:DAYLIGHT
TZOFFSETFROM:-0800
TZOFFSETTO:-0700
TZNAME:PDT
DTSTART:20200308T100000
END:DAYLIGHT
BEGIN:STANDARD
TZOFFSETFROM:-0700
TZOFFSETTO:-0800
TZNAME:PST
DTSTART:20201101T090000
END:STANDARD
END:VTIMEZONE
BEGIN:VEVENT
DTSTART;TZID=America/Los_Angeles:20190824T123000
DTEND;TZID=America/Los_Angeles:20190824T133000
DTSTAMP:20260422T142100
CREATED:20190809T232519Z
LAST-MODIFIED:20190809T232842Z
UID:3895-1566649800-1566653400@ciacla.com
SUMMARY:Guided Meditation with Johnny O’Callaghan
DESCRIPTION:Optimizing the human experience with Johnny O’Callaghan through Guided Meditation. Unplug from the stress of life to experience your presence and the now all around you. Clearing creative blocks while tapping into your ideal life.  \nRSVP Now – Tickets by Donation Below \nDate: Saturday August 24th at 12.30pm  \nDuration: 45 minutes \nBring: Your Own Yoga Mat \nLocation: CIACLA\, Suite B1\, Bergamot Station\, 2525 Michigan Avenue\, Santa Monica\, CA 90404. \nAbout Johnny O’Callaghan \nJohnny O’Callaghan MA has a private practice in the Hollywood Hills where he weaves meditation\, counseling\, psychotherapy modalities\, hypnosis\, coaching and energy work. He began his healing training with Vipassana Meditation over 25 years ago\, which means to see things as they really are. His Masters in Psychology is from the University of Santa Monica. He teaches meditation at Unplug and various Acting Schools in LA and volunteers with The Freedom to Choose Project to bring healing to the prison community. \nAbout CIACLA \nCIACLA is a new Contemporary Irish Arts Center which will promote Contemporary Irish Culture and local diverse communities through a multidisciplinary program\, in collaboration with local and international cultural partnerships in Bergamot Station\, Santa Monica – Los Angeles. The program will feature some of the most exciting talent from Ireland\, with a multidisciplinary program of visual arts\, theatre\, performance\, dance\, music\, literature\, design and film. Please support the center by visiting www.ciacla.com/support 
URL:https://ciacla.com/event/guided-meditation/
LOCATION:CIACLA Contemporary Irish Arts Center Los Angeles\, 2525 Michigan Avenue\, #Suite B1\, Santa Monica\, CA\, 90404\, United States
CATEGORIES:Meditation
ATTACH;FMTTYPE=image/jpeg:https://ciacla.com/wp-content/uploads/2019/08/be1544efd2153adcfe3a507ba1c986a3.jpg
END:VEVENT
END:VCALENDAR