BEGIN:VCALENDAR
VERSION:2.0
PRODID:-//CIACLA - ECPv6.15.20//NONSGML v1.0//EN
CALSCALE:GREGORIAN
METHOD:PUBLISH
X-ORIGINAL-URL:https://ciacla.com
X-WR-CALDESC:Events for CIACLA
REFRESH-INTERVAL;VALUE=DURATION:PT1H
X-Robots-Tag:noindex
X-PUBLISHED-TTL:PT1H
BEGIN:VTIMEZONE
TZID:America/Los_Angeles
BEGIN:DAYLIGHT
TZOFFSETFROM:-0800
TZOFFSETTO:-0700
TZNAME:PDT
DTSTART:20180311T100000
END:DAYLIGHT
BEGIN:STANDARD
TZOFFSETFROM:-0700
TZOFFSETTO:-0800
TZNAME:PST
DTSTART:20181104T090000
END:STANDARD
BEGIN:DAYLIGHT
TZOFFSETFROM:-0800
TZOFFSETTO:-0700
TZNAME:PDT
DTSTART:20190310T100000
END:DAYLIGHT
BEGIN:STANDARD
TZOFFSETFROM:-0700
TZOFFSETTO:-0800
TZNAME:PST
DTSTART:20191103T090000
END:STANDARD
BEGIN:DAYLIGHT
TZOFFSETFROM:-0800
TZOFFSETTO:-0700
TZNAME:PDT
DTSTART:20200308T100000
END:DAYLIGHT
BEGIN:STANDARD
TZOFFSETFROM:-0700
TZOFFSETTO:-0800
TZNAME:PST
DTSTART:20201101T090000
END:STANDARD
END:VTIMEZONE
BEGIN:VEVENT
DTSTART;TZID=America/Los_Angeles:20190803T193000
DTEND;TZID=America/Los_Angeles:20190803T210000
DTSTAMP:20260422T172244
CREATED:20190522T181806Z
LAST-MODIFIED:20190726T150943Z
UID:2708-1564860600-1564866000@ciacla.com
SUMMARY:Standup Comedy
DESCRIPTION:CIACLA presents a night of standup comedy featuring the very best in Irish and American standup comedy. Join Emma Pyne and a host of special guests a night of guaranteed craic and belly laughs straight outta Ireland.  \nLine Up for August: Emma Pyne – Francis Cronin – Sean Finnerty – Mark Hayes – Jen Murphy – Tom Clark – Allan Cunningham.  \nEmma Pyne hails from County Clare. She began writing comedy in 2006 and performed with a sketch group at the Edinburgh Fringe Festival in 2007 and 2008. She is an award-winning actor\, trained at The Lee Strasberg Institute\, and recently starred in the film Angels On Tap\, with Ed Asner\, Jamie Farr and Marion Ross. She has performed standup in New York\, London\, Edinburgh\, San Francisco\, Arizona\, and in LA at The Comedy Store\, The Hollywood Improv and Flappers. She hosts two monthly comedy shows in LA\, one called Throwing Punches and another called Laughing Cat.\n  \nFrancis Cronin is an Irish born and raised comedian\, actor\, writer\, producer and ex-Irish army officer. In 2012 Frank won the ‘People’s Choice Award’ at the WAFF Awards and was nominated for an ‘Outsider – Person of the Year Award’ in 2013 for his comedic documentary series about living in a tent for his entire final year of university. He has performed in front of crowds from 50-5000. He wrote the hit Irish comedy series ‘The Boys’ and wrote and starred in BlackPills’s ‘SuperHigh.’ Francis has made numerous TV appearances in Ireland and America and you can catch him on Fox’s LaughsTV. Francis is currently working with SNL alumni on beyondthecomics.com and starring weekly in Equal’s Three viral sketches which garner over 50 million views a month globally. \nSean Finnerty grew up in Longford\, and moved to the U.S. at the age of 21. He recently became the first Irish comedian to perform on the Tonight Show with Jimmy Fallon (2019). In 2013 he was selected for Comedy Central’s Up Next competition and was a semi finalist in Florida’s Funniest Comedian (2014) resulting in him opening for WWE hall of famer Mick Foley. In 2015 he make his television debut as co-host of Fireball Run on Amazon Prime\, and was selected to perform at the Boston Comedy Festival. He moved to New York in 2016 and quickly became known as ‘one to watch’. Recently\, he performed at festivals Laugh Your Asheville Off (2017)  Edinburgh Fringe (2018) and Electric Picnic (2018)\, and made it to the semi finals of the nationwide talent search Stand Up NBC. Sean has also developed a reputation as a Roaster and is currently the number 1 ranked roast comic in New York City.   \nMark Hayes has been dubbed “Ireland’s craziest and wittiest comedian and writer\, a poet at times.” Saying that he has also been called the “runt of Irish literature” so take your pick. He is the author of three books including RanDumb: The Adventures of an Irish Guy in LA which was number one on Amazon Humour\, he also writes a weekly column about life in LA for the Irish Examiner. Mark runs his own weekly show every Friday night at the Laugh Factory and can be found performing all over LA and around the country opening for Chris D’Elia. \nJen Murphy is an Irish American comic from California. She has been featured on Gotham Comedy Live on AXS TV\, Comics Unleashed on ABC\, Last Comic Standing on NBC\, and Laughs on FOX. As well as performing at clubs\, she has also done three military tours to Afghanistan\, Kuwait\, Jordan\, Egypt and Greece to perform for the US troops. \nTom Clark was born and raised\, in that order. He has performed stand up on such shows as TBS’s Conan\, CBS’s Late Late Show\, The Bob & Tom Radio Show\, and Comedy Central’s Premium Blend.  His  stand-up special “Outraged” is available on iTunes and Amazon. Clark is also an actor and has appeared on such shows as HBO’s Room 104 & Euphoria\, NBC’s Outsourced\, TNT’s The Closer\, and the Hallmark made for TV movie The Wish List. After landing the role on Outsourced\, director Ken Kwapis invited Clark to be in the Drew Barrymore movie\, Big Miracle. You can also see Clark in Columbia Pictures Freaks of Nature. www.tomclark.com  \n\n\n\n\n\n\n\n\n\nAllan Cunningham is one of the last great storytellers. His laid-back demeanor allows him to paint a hilarious picture so vivid you can hang on the wall. Off stage you can catch him mastering his craft as an actor\, director and writer. He is currently the face of antidepressant Rexulti seen on all major TV networks.
URL:https://ciacla.com/event/standup-comedy-aug/
LOCATION:CIACLA\, Suite B1\, Bergamot Station\,\, 2525 Michigan Avenue\, Santa Monica\, CA\, 90404\, United States
CATEGORIES:Comedy
ATTACH;FMTTYPE=image/jpeg:https://ciacla.com/wp-content/uploads/2019/05/August-3-banner.jpg
END:VEVENT
BEGIN:VEVENT
DTSTART;TZID=America/Los_Angeles:20190712T180000
DTEND;TZID=America/Los_Angeles:20190712T220000
DTSTAMP:20260422T172244
CREATED:20190629T040122Z
LAST-MODIFIED:20190714T050248Z
UID:3049-1562954400-1562968800@ciacla.com
SUMMARY:Irish Comedy Night - Irelandweek - Standup - Lords of Strut!
DESCRIPTION:  \nCIACLA invites you to a night of comedy and celebration of the pre launch of IRELANDWEEK 2019 !  \nFeaturing the very best in Irish and American standup and theatrical comedy. Join us with a host of special guests for a night of guaranteed craic and belly laughs straight outta Ireland. \nJuly 12th – CIACLA at Bergamot Station! CIACLA\, Suite B1\, Bergamot Station\, 2525 Michigan Avenue Santa Monica\, CA 90404. \n6pm : Reception sponsored by Irelandweek – www.irelandweek.com  \n7.30pm: Standup Comedy! Featuring Frank Cronin\, Emma Pyne\, Tamer Kattan\, Kate Quigley\, Katrina Braxton\, Debra DiGiovanni. \n9pm:  Lords of Strut  \n\n\nAbout Irelandweek:  \nIrelandWeek returns November 1st to 9th 2019 in Los Angeles with an ever expanding program of events connecting modern Ireland.   The week starts with the IrelandCon conference on November 1st followed by a series of cultural\, sporting\, music\, theatre\, comedy\, film\, literature\, art and entertainment focused events. Join us for a pre launch reception to see what’s in store for this year.  www.irelandweek.com    @irelandweek \n\n \nAbout  LORDS OF STRUT \nAn epic saga of two brothers and their destiny to Dance! Ireland’s favorite spandex wearing brothers and comic dancing divas have one mission… “To Change The World with DANCE!”……. from these self described “Absolute Legends” comes a mythical memoir of how they came to be\, A PopOpera of daring\, disappointments and delusions… a family feud finds the brothers in a secretive yet epic battle for the soul of the world! \nThe clothes are too tight\, the dreams are too big and there might not be enough room in this double act for the two of them! Yes there will be dance – Yes there will be drama – Yes there will be keytar! \n  \n“TRULY SUBVERSIVE” – New York Times \n“OFFENSIVE\, FANTASTIC\, AND ABSURDLY BRILLIANT” – Broadway Baby \n“I THINK I GET IT NOW… STUPIDLY FUNNY” – Simon Cowell \n  \nLords of Strut have been ripping it up across the Irish and international festival scene since they first squeezed themselves into spandex. Their unique brand of comedy acrobatics and what the hell are they doing has been delighting and confusing audiences in more than 25 countries for 10 years! Cian Kinsella and Cormac Mohally perform and created the legend that is… LORDS OF STRUT \nwww.lordsofstrut.com \n\n \nAbout the Comedians: \n  \nEmma Pyne hails from County Clare. She began writing comedy in 2006 and performed with a sketch group at the Edinburgh Fringe Festival in 2007 and 2008. She is an award-winning actor\, trained at The Lee Strasberg Institute\, and recently starred in the film Angels On Tap\, with Ed Asner\, Jamie Farr and Marion Ross. She has performed standup in New York\, London\, Edinburgh\, San Francisco\, Arizona\, and in LA at The Comedy Store\, The Hollywood Improv and Flappers. She hosts two monthly comedy shows in LA\, one called Throwing Punches and another called Laughing Cat. \nFrancis Cronin is an Irish born and raised comedian\, actor\, writer\, producer and ex-Irish army officer. In 2012 Frank won the ‘People’s Choice Award’ at the WAFF Awards and was nominated for an ‘Outsider – Person of the Year Award’ in 2013 for his comedic documentary series about living in a tent for his entire final year of university. He has performed in front of crowds from 50-5000. He wrote the hit Irish comedy series ‘The Boys’ and wrote and starred in BlackPills’s ‘SuperHigh.’ Francis has made numerous TV appearances in Ireland and America and you can catch him on Fox’s LaughsTV. Francis is currently working with SNL alumni on beyondthecomics.com and starring weekly in Equal’s Three viral sketches which garner over 50 million views a month globally. \nTamer Kattan is a bi-coastal comedian and host who began his career in Los Angeles and New York\, but quickly began to tour internationally. His over-seas experiences include tours for the troops in Afghanistan\, performing at the American University and the Edinburgh fringe in Scotland\, where he received three 4 star reviews from international press. Most recently featured on Seth Rogen’s Hilarity for Charity event with Todd Glass and Hannibal Buress\, won the 2015 World Series of Comedy\, in 2017 won his episode of Comedy Knockout on truTV. In 2019 his podcast “They Tried to Bury Us” was featured in Los Angeles magazine. He has TV & Radio credits on BBC and SkyTV in the UK as well as in the U.S. on Fox\, HULU\, HGTV & truTV. \n Katrina Braxton: One day Katrina’s father triple-dared her to try stand up. So\, September 2009\, she did her first comedy set at the Laughing Skull Club in Atlanta GA. Before she knew it she was opening for comics like Margaret Cho and Jamie Kennedy.  Since then she has been performing in rooms all over like Comedy Cellar\, Gotham Comedy Club\, and the Hollywood Improv. In 2014 Katrina was named a top 10 finalist in NBC Stand Up for Diversity national contest. In 2016 Katrina starred in feature film\, How to Be Single\, playing opposite to Leslie Mann. Currently\, Katrina resides in Los Angeles where she was featured in the 2016 Burbank Comedy Festival. Also seen on TruTV\, Katrina travels everywhere there is a comedy show.  You can catch her hosting every week at Flappers Comedy Club in Burbank. \nKate Quigley is a standup comedian & actress. She hosted the 2016 AVN Awards (airing on Showtime\,) and can currently be seen on MTV2’s ADD TV. Widely known as the “up for anything” star of UNDERCOVER on Playboy TV\, Kate’s other TV credits include THE OFFICE (NBC)\, THE JOSH WOLF SHOW (CMT)\, THE DANNY COMDEN PROJECT (Pilot for Warner Bros)\, THE MEGAN MULLALLY SHOW (NBC)\, and TALKSHOW WITH SPIKE FERESTEN (FOX). She also hosts a podcast\, #DateFails (which receives over 30\,000 downloads per week) on Bill Burr & Al Madrigal’s network\, All Things Comedy.  Kate tours as a headlining comedian and is a paid regular at the Improv\, Laugh Factory\, Icehouse\, and Haha Comedy Club in Hollywood. She recently returned from an Armed Forces Tour\, performing for troops in Japan\, Singapore\, Guam\, and Diego Garcia. \nDebra DiGiovanni is a three-time winner of the Canadian Comedy Award for Best Female Comic. She has appeared in two Comedy Now! stand up specials on The Comedy Network; appeared at seven Just For Laughs Comedy Festivals in Montreal;  is frequently on CBC Radio’s The Debaters; and is a favourite on Much Music’s Video On Trial. She’s also appeared on the most recent two seasons of Match Game. Debra can also be seen in the film Unlucky\, and found on Netflix with her new Showtime Comedy special\, Single Awkward Female. She is the winner of a Gemini Award for Best-Televised Individual Comedy Performance and also received a Canadian Comedy Award nomination in the Comedy Writing category for The Debaters. \nAbout CIACLA: www.ciacla.com/program and www.ciacla.com/events for a full list of what’s on this summer! \nCIACLA is a new Contemporary Irish Arts Center which will promote Contemporary Irish Culture and local diverse communities through a multidisciplinary program\, in collaboration with local and international cultural partnerships in Bergamot Station\, Santa Monica – Los Angeles. The program will feature some of the most exciting talent from Ireland\, with a multidisciplinary program of visual arts\, theatre\, performance\, dance\, music\, literature\, design and film.  The people behind CIACLA are Matthew Nevin and Ciara Scanlan – co-directors of MART Gallery in Dublin who also have a long history of curating Irish art exhibitions in Los Angeles. After nearly a decade of partnering with venues to promote Irish Artists in Los Angeles\, MART is taking the logical next step by opening CIACLA – a dedicated space to showcasing Irish Arts & Culture in Los Angeles. \n  \nWebsite: www.ciacla.com  \nProgram: www.ciacla.com/program   \nTickets: www.ciacla.com/events  \nSocial Media: Facebook | Instagram | Twitter | LinkedIn \nPromo Materials: Google Drive Link \nSupported by: Culture Ireland\, Government of Ireland: Emigrant Support Programme  \nCIACLA Location: Suite B1\, Bergamot Station\, 2525 Michigan Avenue Santa Monica\, CA 90404. \n\n\n \n\n\n  \n\nKindly Supported by Culture Ireland and the Government of Ireland: Emigrant Support Programme.
URL:https://ciacla.com/event/irish-comedy-night/
LOCATION:CIACLA Contemporary Irish Arts Center Los Angeles\, 2525 Michigan Avenue\, #Suite B1\, Santa Monica\, CA\, 90404\, United States
CATEGORIES:Comedy
ATTACH;FMTTYPE=image/jpeg:https://ciacla.com/wp-content/uploads/2019/06/7e14e8225774a899ee7f242ad99a1ccd.jpg
END:VEVENT
END:VCALENDAR